BEGIN:VCALENDAR
VERSION:2.0
PRODID:-//wp-events-plugin.com//7.2.3.1//EN
TZID:Europe/Berlin
X-WR-TIMEZONE:Europe/Berlin
BEGIN:VEVENT
UID:257@zunfthaere.de
DTSTART;TZID=Europe/Berlin:20260216T103000
DTEND;TZID=Europe/Berlin:20260216T190000
DTSTAMP:20250803T113527Z
URL:https://zunfthaere.de/veranstaltungen/rosenmontagszug-3/
SUMMARY:Rosenmontagszug
DESCRIPTION:Treffpunkt Gemeinsames Frühstück: 10:30 Uhr\n\nAbmarsch zur Z
 ugaufstellung 13:15
LOCATION:Em Brauhuus '73\, Bergstraße 9\, Stolberg\, 52222\, Deutschland
GEO:50.770109;6.233111
X-APPLE-STRUCTURED-LOCATION;VALUE=URI;X-ADDRESS=Bergstraße 9\, Stolberg\, 
 52222\, Deutschland;X-APPLE-RADIUS=100;X-TITLE=Em Brauhuus '73:geo:50.7701
 09,6.233111
END:VEVENT
BEGIN:VTIMEZONE
TZID:Europe/Berlin
X-LIC-LOCATION:Europe/Berlin
BEGIN:STANDARD
DTSTART:20251026T020000
TZOFFSETFROM:+0200
TZOFFSETTO:+0100
TZNAME:CET
END:STANDARD
END:VTIMEZONE
END:VCALENDAR